BEGIN:VCALENDAR
VERSION:2.0
PRODID:-//Eventin//Event Calendar//EN
CALSCALE:GREGORIAN
METHOD:PUBLISH
BEGIN:VEVENT
UID:6738ca560ceed109848d41cde42c4357@progettomentor.eu
SUMMARY:Gamification: applicazioni e casi studio - WEBINAR
DESCRIPTION:Applicare le meccaniche di gioco che possono catturare l'attenz
 ione degli utenti nell'ambito della gamification: scopriremo come con degli
  esempi pratici\, grazie alla partecipazione di ospiti che se ne sono occup
 ati attivamente.10:00 Presentazione MENTOR - a cura di Marco Cozza e France
 sca Ida Mazzuca10:30 Introduzione alla Gamification - a cura di Salvatore I
 sabella11:00 Presentazione e approccio di Double Jump - a cura di Lorenzo R
 omoli11:30 Il Sistema Museale dell'Università della Calabria: il Rimuseum 
 e il SiMU Market - a cura di Vittoria CarnevaleLink all'evento: https://tea
 ms.microsoft.com/l/meetup-join/19%3ameeting_ZGFjNjRhODYtOWQ3NS00MTc0LWEyMzY
 […]2c%22Oid%22%3a%228fea7798-1497-4af8-a094-74866fcf5703%22%7d
LOCATION:Online
DTSTAMP:20260423T110737Z
DTSTART:20240619T080000Z
DTEND:20260423T100000Z
END:VEVENT
END:VCALENDAR
